Workbook

Sheet Instructions
B1: User Instructions - Method Readiness Criteria Questionnaire
B2: Please scroll down to read all instructions before completing this questionnaire. Responses will be used to assess the readiness of a method for formal validation and to identify any gaps requiring resolution prior to proceeding.
B20: Completing the Developer Questionnaire
X39: Page 1 of 3
X84: Page 2 of 3
X135: User Instructions
X136: Page of 3

Sheet Developer Questionnaire
B1: Method Readiness Criteria Questionnaire | H1: CAUTION: Resetting will clear the entered information and cannot be undone. We recommend saving a copy of the completed or partially completed form before proceeding.
B2: Complete all fields below using the drop-down menus or by entering your response directly into the cell. Refer to the “Definition of Criteria” and “Additional Context for Questions” columns for guidance. “Essentiality” identifies the stage (i.e., before validation, at or during transfer, and at peer review) of validation associated with each criteria category.
A3: Response Status | B3: QUESTION Grouped by Overarching Criteria Category | C3: RESPONSE Dropdown Selection | D3: SUPPORTING INFORMATION Free-text Entry | E3: Additional Context for Questions Reference Only | No User Input | F3: TASK STATUS Automated
B4: 1. Method Developer
A5: =IF(OR(C5="",C5="[organization name]"),"Not Answered","Answered") -> Not Answered | B5: Organization Name | C5: [organization name]
A6: =IF(OR(C6="",C6="[full mailing address including street address, city, state/province, postal code, and country]"),"Not Answered","Answered") -> Not Answered | B6: Organization Address | C6: [full mailing address including street address, city, state/province, postal code, and country]
A7: =IF(OR(C7="",C7="[poc name]"),"Not Answered","Answered") -> Not Answered | B7: Point of Contact (POC) | C7: [poc name]
A8: =IF(OR(C8="",C8="[poc phone number]"),"Not Answered","Answered") -> Not Answered | B8: Phone Number | C8: [poc phone number]
A9: =IF(OR(C9="",C9="[poc email]"),"Not Answered","Answered") -> Not Answered | B9: Email Address | C9: [poc email]
A10: =IF(OR(C10="",C10="[name of individual submitting questionnaire]"),"Not Answered","Answered") -> Not Answered | B10: Submitted By | C10: [name of individual submitting questionnaire]
A11: =IF(OR(C11="",C11="[date questionnaire submitted]"),"Not Answered","Answered") -> Not Answered | B11: Date Submitted | C11: [date questionnaire submitted]
B13: 2. Test Method Definition/Description:
B14: Definition of Criteria | C14: A test method is usually composed of three elements: (i) test system, (ii) protocol, and (iii) prediction model, where applicable
A15: =IF(OR(C15="",C15="[method name]"),"Not Answered","Answered") -> Not Answered | B15: Test Method Name | C15: [method name]
A16: =IF(OR(C16="",C16="[provide a brief description of the test method and its elements]"),"Not Answered","Answered") -> Not Answered | B16: Test Method Description | C16: [provide a brief description of the test method and its elements]
B18: 3. Availability/Accessibility and International Consistency of Test Method Components
B19: Definition of Criteria | C19: Test method components refer to biological material, plastic ware, instruments, reagents, culture media, protocols that are needed to perform the experimental procedure of the test method. The test method and/or its components can be commercially available or require agreements (e.g. material transfer agreement or licensing agreement).
B20: Essentiality | C20: Before Validation
A21: =IF(C21="", "Not Answered", "Answered") -> Not Answered | B21: Have method components been defined? List components. | D21: [list components] | F21: =IF(C21="Yes","Completed",IF(C21="Not Applicable","NA",IF(C21="Unsure","Unsure","Not Completed"))) -> Not Completed
A22: =IF(C22="", "Not Answered", "Answered") -> Not Answered | B22: Has the test system, cell type, platform, etc. been defined? List. | D22: [list test system, cell type, platform, etc.] | F22: =IF(C22="Yes","Completed",IF(C22="Not Applicable","NA",IF(C22="Unsure","Unsure","Not Completed"))) -> Not Completed
A23: =IF(C23="", "Not Answered", "Answered") -> Not Answered | B23: Are method components available, accessible and consistent across geographic regions? Specify whether there is an IP involved. | D23: [specify if there is an IP involved] | E23: Essentiality: Before Validation This question applies to all aspects of the test method. Special attention should be drawn to availability of chemicals (controls and reference items), materials, reagents, test systems across countries and jurisdictions. International Consistency can be checked by asking the manufacturer. | F23: =IF(C23="Yes","Completed",IF(C23="Not Applicable","NA",IF(C23="Unsure","Unsure","Not Completed"))) -> Not Completed
A24: =IF(C24="", "Not Answered", "Answered") -> Not Answered | B24: Has the test method been optimized? | D24: [add supporting information, as needed] | E24: Essentiality: Before Validation | F24: =IF(C24="Yes","Completed",IF(C24="Not Applicable","NA",IF(C24="Unsure","Unsure","Not Completed"))) -> Not Completed
B26: 4. Intellectual Property
B27: Definition of Criteria | C27: The test method and/or its components can be covered by intellectual property rights (IPR) such as a trademark or patent.
B28: Essentiality | C28: Before Validation
A29: =IF(C29="", "Not Answered", "Answered") -> Not Answered | B29: Is the method or components covered by an IPR? What are the plans to make the test method available to the public? | D29: [specify plans to make the test method available to the public] | E29: OECD 298 Guiding Principles on Good Practices for the Availability/Distribution of Protected Elements in OECD Test Guidelines. Click to go to OECD Document " | F29: =IF(C29="Yes","Completed",IF(C29="Not Applicable","NA",IF(C29="Unsure","Unsure","Not Completed"))) -> Not Completed
B31: 5. Test System
B32: Definition of Criteria | C32: The test system is the biological/chemical system that is exposed to the test items to obtain experimental data.
B33: Essentiality | C33: Before Validation
B34: 5a. Basic information and quality control
A35: =IF(C35="", "Not Answered", "Answered") -> Not Answered | B35: Is the following information available: • supplier information and contact details • unique identifier (e.g., cell registry identifier, CASRN, RRID) | D35: [specify information that is currently unavailable] | E35: RRID = Research Resource Identifier | F35: =IF(C35="Yes","Completed",IF(C35="Not Applicable","NA",IF(C35="Unsure","Unsure","Not Completed"))) -> Not Completed
A36: =IF(C36="", "Not Answered", "Answered") -> Not Answered | B36: IN CHEMICO TEST SYSTEMS ONLY Is the following information available: • purity • compatibility with assay system | D36: [list additional key information that is currently available or needed in the future] | F36: =IF(C36="Yes","Completed",IF(C36="Not Applicable","NA",IF(C36="Unsure","Unsure","Not Completed"))) -> Not Completed
A37: =IF(C37="", "Not Answered", "Answered") -> Not Answered | B37: CELL-BASED SOURCE MATERIAL Is the following information available, if applicable: • cell authentication • viability • genetic stability • mycoplasma testing • sterility testing (bacteria, virus, fungi) • primary donor cell/tissue (sex, age, health status) • cell/tissue of origin • isolation technique (primary cells) • differentiation status (hiPSCs and derivatives, primary cells) • morphology • cell-type specific marker expression • functional assessment (e.g., pluripotency, assessment for hiPSC) • mechanistic compatibility | D37: [list applicable items and the status of information availability for each] | E37: Source refers to the starting material used for the test system. It is good practice to authenticate cells on a regular basis and check their genetic stability (e.g., for each cell bank that is used for key studies). Sterility and mycoplasma testing should also be done periodically. | F37: =IF(C37="Yes","Completed",IF(C37="Not Applicable","NA",IF(C37="Unsure","Unsure","Not Completed"))) -> Not Completed
A38: =IF(C38="", "Not Answered", "Answered") -> Not Answered | B38: CELL-BASED TEST SYSTEMS THAT ARE DIFFERENT FROM THE ORIGINAL SOURCE Is the following information available, if applicable: • cell authentication • cell viability • cell genetic stability • mycoplasma testing • sterility testing (bacteria, virus, fungi) • type and method used for genetic modification (transgenic cells, clones) • reprogramming technique (hiPSC) • morphology • cell-type specific marker expression • compatibility testing of test system supplies • mechanistic compatibility | D38: [list applicable items and the status of information availability for each] | F38: =IF(C38="Yes","Completed",IF(C38="Not Applicable","NA",IF(C38="Unsure","Unsure","Not Completed"))) -> Not Completed
B39: 5b. Characterization of test system that is used in the actual experiment
B40: Definition of Criteria | C40: Characterization refers to the phenotypic and functional characterization of the test system, and is case-specific. Case 1 - When the test system that is used for the test method (exposure to the test items) is the same as the test system source, characterization is done on the starting material. Case 2 - When the test system that is used for the test method is different from the test system source, this characterization is done on the final test system. For example, if the source is hiPSC and the final test system exposed to the test item is an HPSC-derived neuron, then characterization would be done on the HPSC-derived neuron.
A41: =IF(C41="", "Not Answered", "Answered") -> Not Answered | B41: Is the test system well-defined and characterized, with decision criteria on usability of the test system at delivery, prior to exposure, following exposure? | D41: [specify primary analytical methods and LODs and provide citation if available] | E41: Essentiality: Before Validation Biological feature is for example specific cell type marker. Biological response is for example the expression of a protein after exposure to a test item. | F41: =IF(C41="Yes","Completed",IF(C41="Not Applicable","NA",IF(C41="Unsure","Unsure","Not Completed"))) -> Not Completed
A42: =IF(C42="", "Not Answered", "Answered") -> Not Answered | B42: Are the biological features maintained over time?? | D42: [list all technical artifacts and how each is mitigated] | E42: Over time may refer to cell passages, independent biological experiments, etc. | F42: =IF(C42="Yes","Completed",IF(C42="Not Applicable","NA",IF(C42="Unsure","Unsure","Not Completed"))) -> Not Completed
A43: =IF(C43="", "Not Answered", "Answered") -> Not Answered | B43: Is the functionality consistent over time (e.g., through reference and control items)? | D43: [specify precision metric and provide citation if available] | E43: A wild-type cell is the cell without a genetic modification. It is used to show that the genetically modified cell line has the required functionality and the wild type cell doesn’t. | F43: =IF(C43="Yes","Completed",IF(C43="Not Applicable","NA",IF(C43="Unsure","Unsure","Not Completed"))) -> Not Completed
B44: 5c. Acceptance criteria for the test system
B45: Definition of Criteria | C45: Acceptance criteria are qualitative and quantitative requirements for the test system to be used in the method.
A46: =IF(C46="", "Not Answered", "Answered") -> Not Answered | B46: Have acceptance criteria been defined for the test system before compound exposure? List acceptance criteria and include publication information, if available. | D46: [list acceptance criteria and include publication information, if available] | E46: Examples of acceptance criteria include minimum concentration, density, cell viability, activity/functionality, cell marker expression, negative for mycoplasma and/or other microbial contaminants, free of genetic abnormalities, correct cytoarchitecture, etc. Batch release information from the supplier may be used as acceptance criteria. | F46: =IF(C46="Yes","Completed",IF(C46="Not Applicable","NA",IF(C46="Unsure","Unsure","Not Completed"))) -> Not Completed
B47: 5d. Metabolic competence
B48: Definition of Criteria | C48: Metabolic competence refers to the capacity of the test system to metabolize test items
A49: =IF(C49="", "Not Answered", "Answered") -> Not Answered | B49: Has the endogenous metabolic competence of the test system been characterized? Specify whether the test system includes a metabolic component. | D49: [specify whether the test systems includes a metabolic component] | E49: It is important to know the metabolic competence of the test system because there are test items that can be metabolized into more or less active forms. Usually the expression and activity of phase I (e.g. CYP450) and phase II (e.g. UGT, SULT) enzymes are checked. | F49: =IF(C49="Yes","Completed",IF(C49="Not Applicable","NA",IF(C49="Unsure","Unsure","Not Completed"))) -> Not Completed
B51: 6. Control and Reference Items
B52: Definition of Criteria | C52: Control items are used to assess that the test system responds consistently across experiments and time. Eventually control items are used to establish the maximum response by the test system for data normalization. At minimum, a test method should contain a positive, negative, and/or vehicle control. A method could also include one or more reference items. See OECD Guidance Document on Good In Vitro Method Practices (GIVIMP). Click to go to OECD document "
B53: Essentiality | C53: Before Validation
A54: =IF(C54="", "Not Answered", "Answered") -> Not Answered | B54: Have positive and negative controls been defined and characterized? What are the positive, negative, and/or vehicle controls? | D54: [specify positive, negative, and/or vehicle controls and the characterization status of each, if available] | E54: Essentiality: Before Validation Controls need to be well-characterized with respect to their physical chemical properties and variability in response by the test system. Chemicals used as controls should be stable during storage, handling, and testing. For example, controls should not be volatile, oxidized, reactive with water, etc. Unstable or reactive chemicals could increase variability in results within and between laboratories. | F54: =IF(C54="Yes","Completed",IF(C54="Not Applicable","NA",IF(C54="Unsure","Unsure","Not Completed"))) -> Not Completed
A55: =IF(C55="", "Not Answered", "Answered") -> Not Answered | B55: Is the selection of the positive, negative, and vehicle controls justified? | D55: [add justification for the selection of each control] | F55: =IF(C55="Yes","Completed",IF(C55="Not Applicable","NA",IF(C55="Unsure","Unsure","Not Completed"))) -> Not Completed
A56: =IF(C56="", "Not Answered", "Answered") -> Not Answered | B56: Are any of the positive, negative, and/or vehicle controls potentially hazardous? If yes, list hazards for each control. | D56: [add potential hazards for each control, as applicable] | E56: Hazards of the control items should be known. It is recommended that extremely hazardous chemicals, persistent organic pollutants, and other test items are avoided where possible. | F56: =IF(C56="Yes","Completed",IF(C56="Not Applicable","NA",IF(C56="Unsure","Unsure","Not Completed"))) -> Not Completed
A57: =IF(C57="", "Not Answered", "Answered") -> Not Answered | B57: Are positive, negative, and/or vehicle controls performed with every test and included during each testing? | D57: [add supporting information, as needed] | F57: =IF(C57="Yes","Completed",IF(C57="Not Applicable","NA",IF(C57="Unsure","Unsure","Not Completed"))) -> Not Completed
A58: =IF(C58="", "Not Answered", "Answered") -> Not Answered | B58: Has the solubility and potential precipitation of each test item/substance been evaluated over time? | D58: [add supporting information, as needed] | F58: =IF(C58="Yes","Completed",IF(C58="Not Applicable","NA",IF(C58="Unsure","Unsure","Not Completed"))) -> Not Completed
A59: =IF(C59="", "Not Answered", "Answered") -> Not Answered | B59: TEST SYSTEMS WITH PRESERVED METABOLIC ACTIVITY Do positive controls include haptens and/or pre-haptens? | D59: [specify haptens and pre-haptens, as applicable] | F59: =IF(C59="Yes","Completed",IF(C59="Not Applicable","NA",IF(C59="Unsure","Unsure","Not Completed"))) -> Not Completed
B61: 7. Acceptance Criteria for Results
B62: Definition of Criteria | C62: Acceptance criteria are typically limits set for the maximum/minimum response or ranges within which the test systems response should fall, to confirm the correct functioning of the test system and validity of experiments and test results. Acceptance criteria can be established when sufficient historical data have been generated with the test method and its controls.
B63: Essentiality | C63: At or During Transfer
A64: =IF(C64="", "Not Answered", "Answered") -> Not Answered | B64: Have acceptance criteria for results been defined? | D64: [specify acceptance criteria] | E64: Acceptance criteria may be established for the response of the test system after exposure to reference and control items, for background response, for dynamic range and variability of replicate measurements. | F64: =IF(C64="Yes","Completed",IF(C64="Not Applicable","NA",IF(C64="Unsure","Unsure","Not Completed"))) -> Not Completed
A65: =IF(C65="", "Not Answered", "Answered") -> Not Answered | B65: Are acceptance criteria defined for dynamic range? | D65: [add supporting information, as needed] | E65: The dynamic range of a method is the difference between maximum and minimum response of the test system (usually response to solvent control and highest concentration of the reference item). | F65: =IF(C65="Yes","Completed",IF(C65="Not Applicable","NA",IF(C65="Unsure","Unsure","Not Completed"))) -> Not Completed
A66: =IF(C66="", "Not Answered", "Answered") -> Not Answered | B66: Are acceptance criteria based on normalized data? | D66: [add supporting information, as needed] | E66: Acceptance criteria are usually set using normalized data. | F66: =IF(C66="Yes","Completed",IF(C66="Not Applicable","NA",IF(C66="Unsure","Unsure","Not Completed"))) -> Not Completed
A67: =IF(C67="", "Not Answered", "Answered") -> Not Answered | B67: Are periodic evaluations of the test system performed? | D67: [specify how often evaluations are performed] | F67: =IF(C67="Yes","Completed",IF(C67="Not Applicable","NA",IF(C67="Unsure","Unsure","Not Completed"))) -> Not Completed
A68: =IF(C68="", "Not Answered", "Answered") -> Not Answered | B68: Have cell viability criteria been established? | D68: [specify viability criteria] | F68: =IF(C68="Yes","Completed",IF(C68="Not Applicable","NA",IF(C68="Unsure","Unsure","Not Completed"))) -> Not Completed
A69: =IF(C69="", "Not Answered", "Answered") -> Not Answered | B69: Are negative controls within the historical parameters for the test system? | D69: [add supporting information, as needed] | F69: =IF(C69="Yes","Completed",IF(C69="Not Applicable","NA",IF(C69="Unsure","Unsure","Not Completed"))) -> Not Completed
A70: =IF(C70="", "Not Answered", "Answered") -> Not Answered | B70: Are positive controls based on a relative increase versus the positive control based solely on statistical trends? | D70: [add supporting information, as needed] | E70: Essentiality: At or During Transfer | F70: =IF(C70="Yes","Completed",IF(C70="Not Applicable","NA",IF(C70="Unsure","Unsure","Not Completed"))) -> Not Completed
B72: 8. Identification of Critical Steps and/or Key Sources of Variability
B73: Essentiality | C73: Before Validation
A74: =IF(C74="", "Not Answered", "Answered") -> Not Answered | B74: Have critical steps (that may influence the results) and sources of variability been identified? | D74: [specify whether a graphical workflow of the test method is available] | E74: Essentiality: Before Validation The overview of the method is ideally presented with a graphical workflow showing a complete sequence of events including endpoint assessment and prediction model/data interpretation procedure application. | F74: =IF(C74="Yes","Completed",IF(C74="Not Applicable","NA",IF(C74="Unsure","Unsure","Not Completed"))) -> Not Completed
A75: =IF(C75="", "Not Answered", "Answered") -> Not Answered | B75: Has batch-to-batch variability been assessed for any of the test methods? | D75: [list components with batch-to-batch variability data] | F75: =IF(C75="Yes","Completed",IF(C75="Not Applicable","NA",IF(C75="Unsure","Unsure","Not Completed"))) -> Not Completed
A76: =IF(C76="", "Not Answered", "Answered") -> Not Answered | B76: Could the batch variability for any of the test method components (e.g., microsomes, antibodies, serum) impact the test results? If yes, how is this variability addressed? | D76: [specify how batch variability is addressed] | F76: =IF(C76="Yes","Completed",IF(C76="Not Applicable","NA",IF(C76="Unsure","Unsure","Not Completed"))) -> Not Completed
B78: 9. Detailed Protocol and Standard Operating Procedures (SOP)
B79: Definition of Criteria | C79: A detailed protocol includes a method description, consumables, chemicals, reagents and equipment needed to perform the method, a detailed description of the experimental procedure, and a procedure for data analysis, calculation of results and reporting. A detailed protocol should be test facility independent, to the extent possible, to facilitate its transfer to other laboratories, e.g. equipment that is not critical should be described in general terms in the protocol to allow different facilities to use different equipment to make the same measurements. Critical steps should be clearly identified and thoroughly described. A test facility should then define a set of Standard Operating Procedures (SOPs) implementing the detailed protocol in its specific environment.
B80: Essentiality | C80: Before Validation
A81: =IF(C81="", "Not Answered", "Answered") -> Not Answered | B81: Is there a detailed protocol for the test method? | D81: [add supporting information, as needed] | E81: Essentiality: Before Validation The overview of the method is ideally presented with a graphical workflow showing a complete sequence of events including endpoint assessment and prediction model/data interpretation procedure application. | F81: =IF(C81="Yes","Completed",IF(C81="Not Applicable","NA",IF(C81="Unsure","Unsure","Not Completed"))) -> Not Completed
A82: =IF(C82="", "Not Answered", "Answered") -> Not Answered | B82: Are the following points of method descriptions covered: • principle of the method and overview of procedural steps to perform the complete method • scientific rationale for the selection of the endpoints • known limitations and possible interference with test results • key references | D82: [specify points that are not currently covered] | E82: For the controls it is important that the protocol is clear about their identity and why they are included. | F82: =IF(C82="Yes","Completed",IF(C82="Not Applicable","NA",IF(C82="Unsure","Unsure","Not Completed"))) -> Not Completed
A83: =IF(C83="", "Not Answered", "Answered") -> Not Answered | B83: Are the following points related to consumables, chemicals, reagents specified: • specific requirements; preparation, storage and shelf life of freshly prepared reagents/solutions • CAS numbers of chemicals and procedure for preparation, storage and quality control of reagents • unique identifier and catalogue numbers / supplier information for all consumables, chemicals and reagents • positive and negative control items and any other controls • preparation of stock and work solutions of control (and reference) items • acceptable solvents and their maximum concentrations • detailed description for the preparation of the test system for use in the method • composition of medium / reagents for test system maintenance • information on routine maintenance and handling of the test system; purity information | D83: [specify points that are not currently covered] | E83: Example of test system description and functioning: U2OS cells genetically modified to express the human androgen receptor and a luciferase reporter gene. Chemicals binding to and activating the receptor will initiate luciferase production in the cells. During incubation, luciferase will transform luciferin into oxy-luciferin and light that can be measured with a luminescence plate reader. For example, maintenance of a cell-based test system includes basic cell culture procedures, storage conditions (e.g. freezing temperature), culture conditions (e.g. incubation temperature, CO2 concentration, humidity).Example of equipment specifications: The equipment should have specific filters, lasers, injectors etc. Examples of instrument qualifications / validation of analytical procedures are found in Annex 4 in TG 439 and Annex 7 in TG 492. Click to go to Test Guideline (TG) " | F83: =IF(C83="Yes","Completed",IF(C83="Not Applicable","NA",IF(C83="Unsure","Unsure","Not Completed"))) -> Not Completed
A84: =IF(C84="", "Not Answered", "Answered") -> Not Answered | B84: TEST SYSTEMS USING FLOW CYTOMETRY Are single stained and unstained cells used as control with each test run? | D84: [add supporting information, as needed] | E84: Preparation of the test system for use in the method refers to the creation (from the original source material) of the test system as then used in the method (e.g. dilution, differentiation of cells, preparation of microtissues, etc.). Examples of preparation of a test system: • hiPSCs constitute the original cell source that must be "prepared", i.e., differentiated to neurons. The neurons are the actual test system. • a sub-cellular fraction might need dilution before use on basis of protein concentration or activity Components of media, such as serum, pH indicators, proteins, hormones etc. can influence the test system performance and should be known. | F84: =IF(C84="Yes","Completed",IF(C84="Not Applicable","NA",IF(C84="Unsure","Unsure","Not Completed"))) -> Not Completed
A85: =IF(C85="", "Not Answered", "Answered") -> Not Answered | B85: Are the following points described in detail in the experimental procedures, if applicable or established? • procedure for selection of the solvent • procedure for selection of the test item dose range, including solubility and cytotoxicity testing (where applicable) • requirements for the generation of proper dose-response information (where applicable) • highest concentration to be prepared (when soluble) • procedure for preparation of test items for application to the test system • procedure for preparation and testing of control (and reference) items • experimental layout, including all controls, number of technical • replicates per concentration • procedure for exposure/dosing • duration of exposure • incubation conditions (temperature, humidity, CO2 concentration) • acceptable ranges for e.g. exposure time, incubation temperature and other variables • procedure and conditions for measuring the endpoint and acquiring data | D85: [specify points that are not currently described or established] | E85: For the controls it is important that the protocol is clear about how the results should be used. Biological replicates are experiment performed on different time points, with freshly prepared test system (e.g. new solution, different passage number, different batch) and solutions. | F85: =IF(C85="Yes","Completed",IF(C85="Not Applicable","NA",IF(C85="Unsure","Unsure","Not Completed"))) -> Not Completed
A86: =IF(C86="", "Not Answered", "Answered") -> Not Answered | B86: Are the following points described in detail for data analysis, calculation of results and reporting? • raw data to be recorded • description of eventual software to be used for data analysis, including its version • procedure for processing data from control, reference and test items, including all the necessary equations and calculations (e.g. dose response equation, EC or IC values) • acceptance criteria for experiments and test results • number of biological replicates needed to derive a result/prediction • data interpretation procedure / prediction model (if applicable) • a detailed statistical analysis plan (if applicable) • procedure for reporting of results | D86: [specify points that are not currently described, including whether a detailed statistical analysis plan is established] | E86: For the controls it is important that the protocol is clear about how they should be prepared. Technical replicates are the number of replicates per test item concentration within the same experiment. An acceptable range for incubation time could be for example 20h +/- 1h. The procedure for performing the method could also include any procedure to be performed prior to the test to verify that the experimental setup is consistent with historical data, e.g. periodically run an iodide standard curve to confirm the correct functioning of the Sandell Kolthoff reaction. | F86: =IF(C86="Yes","Completed",IF(C86="Not Applicable","NA",IF(C86="Unsure","Unsure","Not Completed"))) -> Not Completed
B88: 10. Data Management, Evaluation, and Interpretation
B89: Essentiality | C89: Before Validation
B90: 10a. Data management
A91: =IF(C91="", "Not Answered", "Answered") -> Not Answered | B91: Is documentation or recommendations on data formats provided? | D91: [add supporting information, as needed] | E91: Raw data are the data as obtained from the instrument and/or operator. Example: Providing proper metadata for image acquisition and analysis optimize data sharing, comparison and interpretation, and re-usability | F91: =IF(C91="Yes","Completed",IF(C91="Not Applicable","NA",IF(C91="Unsure","Unsure","Not Completed"))) -> Not Completed
A92: =IF(C92="", "Not Answered", "Answered") -> Not Answered | B92: Are open standards used to store data? | D92: [add supporting information, as needed] | F92: =IF(C92="Yes","Completed",IF(C92="Not Applicable","NA",IF(C92="Unsure","Unsure","Not Completed"))) -> Not Completed
A93: =IF(C93="", "Not Answered", "Answered") -> Not Answered | B93: Are data stored according to FAIR standards? | D93: [add supporting information, as needed] | E93: Example: Depositing omics based data in a data repository (e.g., Gene Expression Omnibus (GEO)) Click to go to website " | F93: =IF(C93="Yes","Completed",IF(C93="Not Applicable","NA",IF(C93="Unsure","Unsure","Not Completed"))) -> Not Completed
A94: =IF(C94="", "Not Answered", "Answered") -> Not Answered | B94: Is there a standardized format for collecting data (e.g. a validated spreadsheet, calculator, etc.)? | D94: [add supporting information, as needed] | E94: OECD Omics Reporting Framework (OORF): Guidance on reporting elements for the regulatory use of omics data from laboratory‑based toxicology studies. Click to go to OECD Document " | F94: =IF(C94="Yes","Completed",IF(C94="Not Applicable","NA",IF(C94="Unsure","Unsure","Not Completed"))) -> Not Completed
A95: =IF(C95="", "Not Answered", "Answered") -> Not Answered | B95: Are all data produced for test, control and reference items, from both valid and non-valid tests / runs / experiments recorded? | D95: [add supporting information, as needed] | E95: Non-valid tests / runs / experiments are those that do not meet the test method’s acceptance criteria. | F95: =IF(C95="Yes","Completed",IF(C95="Not Applicable","NA",IF(C95="Unsure","Unsure","Not Completed"))) -> Not Completed
A96: =IF(C96="", "Not Answered", "Answered") -> Not Answered | B96: Is there a protocol for handling equivocal results? | D96: [add supporting information, as needed] | F96: =IF(C96="Yes","Completed",IF(C96="Not Applicable","NA",IF(C96="Unsure","Unsure","Not Completed"))) -> Not Completed
B97: 10b. Data processing
A98: =IF(C98="", "Not Answered", "Answered") -> Not Answered | B98: DOSE-RESPONSE DATA Is there a detailed procedure for curve-fitting? | D98: [add supporting information, as needed] | E98: Typically an excel template is prepared for the collection and automatic calculation of results from the raw data. These templates should be properly validated before use to ensure their correct output and to avoid uncontrolled modifications | F98: =IF(C98="Yes","Completed",IF(C98="Not Applicable","NA",IF(C98="Unsure","Unsure","Not Completed"))) -> Not Completed
A99: =IF(C99="", "Not Answered", "Answered") -> Not Answered | B99: Is there a method for outlier analysis? | D99: [specify method] | E99: Typically an excel template is prepared for the collection and automatic calculation of results from the raw data. These templates should be properly validated before use to ensure their correct output and to avoid uncontrolled modifications | F99: =IF(C99="Yes","Completed",IF(C99="Not Applicable","NA",IF(C99="Unsure","Unsure","Not Completed"))) -> Not Completed
B100: 10c. Prediction model (PM) / data interpretation procedure (DIP)
A101: =IF(C101="", "Not Answered", "Answered") -> Not Answered | B101: Is there a PM/DIP to decide if a test item is active/positive or inactive/negative for the mechanistic endpoint(s) covered by the method? | D101: [add supporting information, as needed] | F101: =IF(C101="Yes","Completed",IF(C101="Not Applicable","NA",IF(C101="Unsure","Unsure","Not Completed"))) -> Not Completed
A102: =IF(C102="", "Not Answered", "Answered") -> Not Answered | B102: Is there a PM/DIP to predict a regulatory endpoint from the collected data? | D102: [add supporting information, as needed] | F102: =IF(C102="Yes","Completed",IF(C102="Not Applicable","NA",IF(C102="Unsure","Unsure","Not Completed"))) -> Not Completed
A103: =IF(C103="", "Not Answered", "Answered") -> Not Answered | B103: Is there a clear cut-off for positive results? | D103: [add supporting information, as needed] | F103: =IF(C103="Yes","Completed",IF(C103="Not Applicable","NA",IF(C103="Unsure","Unsure","Not Completed"))) -> Not Completed
B105: 11. Test Method Reliability, Reproducibility, and Repeatability
B106: 11a. Training
B107: Essentiality | C107: At or During Transfer
A108: =IF(C108="", "Not Answered", "Answered") -> Not Answered | B108: Has a training protocol been developed? | D108: [add supporting information, as needed] | F108: =IF(C108="Yes","Completed",IF(C108="Not Applicable","NA",IF(C108="Unsure","Unsure","Not Completed"))) -> Not Completed
A109: =IF(C109="", "Not Answered", "Answered") -> Not Answered | B109: Have other labs (excluding developer lab) been trained? | D109: [specify points that are not currently covered] | F109: =IF(C109="Yes","Completed",IF(C109="Not Applicable","NA",IF(C109="Unsure","Unsure","Not Completed"))) -> Not Completed
B110: 11b. Chemicals / test item selection for reliability assessment
...

Sheet Summary
B1: Method Readiness Criteria Summary
B2: INTERNAL USE ONLY. To be completed by internal reviewers only.
B3: METHOD DEVELOPER | G3: READINESS STATUS | L3: Summary of Developer Responses | M3: Count
B4: Organization Name: | C4: ='Developer Questionnaire'!C5 -> [organization name] | D4: Point of Contact : | E4: ='Developer Questionnaire'!C7 -> [poc name] | G4: FALSE | H4: Ready to Proceed | L4: Answered | M4: =COUNTIF('Developer Questionnaire'!A4:A165,"Answered") -> 0
B5: Organization Address: | C5: ='Developer Questionnaire'!C6 -> [full mailing address including street address, city, state/province, postal code, and country] | H5: All critical criteria are met. Method is ready to proceed. | L5: Not Answered | M5: =COUNTIF('Developer Questionnaire'!A4:A165,"Not Answered") -> 76
D6: Phone Number: | E6: ='Developer Questionnaire'!C8 -> [poc phone number] | G6: FALSE | H6: Conditionally Ready
B7: Submitted by : | C7: ='Developer Questionnaire'!C10 -> [name of individual submitting questionnaire] | D7: Email Address: | E7: ='Developer Questionnaire'!C9 -> [poc email] | H7: Minor gaps have been identified. Method can proceed after gaps have been addressed. | M7: Section
B8: Date Submitted: | C8: ='Developer Questionnaire'!C11 -> [date questionnaire submitted] | G8: FALSE | H8: Not Ready Significant gaps identified requiring further method development and resubmission. | L8: Status | M8: 3. Availability/Accessibility and International Consistency of Test Method Components | N8: 4. Intellectual Property | O8: 5. Test System | P8: 6. Control and Reference Items | Q8: 7. Acceptance Criteria for Results | R8: 8. Identification of Critical Steps and/or Key Sources of Variability | S8: 9. Detailed Protocol and Standard Operating Procedures (SOP) | T8: 10. Data Management, Evaluation, and Interpretation | U8: 11. Test Method Reliability, Reproducibilty, and Repeatability | V8: 12. Test Method Relevance | W8: 13. Predictive Capacity | X8: 14. Limitations and Applicability Domain | Y8: 15.Uncertainties
L9: Completed | M9: =COUNTIF('Developer Questionnaire'!F21:F24,"Completed") -> 0 | N9: =COUNTIF('Developer Questionnaire'!F29,"Completed") -> 0 | O9: =COUNTIF('Developer Questionnaire'!F35:F49,"Completed") -> 0 | P9: =COUNTIF('Developer Questionnaire'!F54:F59,"Completed") -> 0 | Q9: =COUNTIF('Developer Questionnaire'!F64:F70,"Completed") -> 0 | R9: =COUNTIF('Developer Questionnaire'!F74:F76,"Completed") -> 0 | S9: =COUNTIF('Developer Questionnaire'!F81:F86,"Completed") -> 0 | T9: =COUNTIF('Developer Questionnaire'!F91:F103,"Completed") -> 0 | U9: =COUNTIF('Developer Questionnaire'!F108:F125,"Completed") -> 0 | V9: =COUNTIF('Developer Questionnaire'!F128:F151,"Completed") -> 0 | W9: =COUNTIF('Developer Questionnaire'!F156,"Completed") -> 0 | X9: =COUNTIF('Developer Questionnaire'!F161,"Completed") -> 0 | Y9: =COUNTIF('Developer Questionnaire'!F165,"Completed") -> 0
L10: Not Completed | M10: =COUNTIF('Developer Questionnaire'!F21:F24,"Not Completed") -> 4 | N10: =COUNTIF('Developer Questionnaire'!F29,"Not Completed") -> 1 | O10: =COUNTIF('Developer Questionnaire'!F35:F49,"Not Completed") -> 9 | P10: =COUNTIF('Developer Questionnaire'!F54:F59,"Not Completed") -> 6 | Q10: =COUNTIF('Developer Questionnaire'!F64:F70,"Not Completed") -> 7 | R10: =COUNTIF('Developer Questionnaire'!F74:F76,"Not Completed") -> 3 | S10: =COUNTIF('Developer Questionnaire'!F81:F86,"Not Completed") -> 6 | T10: =COUNTIF('Developer Questionnaire'!F91:F103,"Not Completed") -> 11 | U10: =COUNTIF('Developer Questionnaire'!F108:F125,"Not Completed") -> 7 | V10: =COUNTIF('Developer Questionnaire'!F128:F151,"Not Completed") -> 10 | W10: =COUNTIF('Developer Questionnaire'!F156,"Not Completed") -> 1 | X10: =COUNTIF('Developer Questionnaire'!F161,"Not Completed") -> 1 | Y10: =COUNTIF('Developer Questionnaire'!F165,"Not Completed") -> 1
B11: METHOD OVERVIEW | L11: Not Applicable to Method | M11: =COUNTIF('Developer Questionnaire'!F21:F24,"NA") -> 0 | N11: =COUNTIF('Developer Questionnaire'!F29,"NA") -> 0 | O11: =COUNTIF('Developer Questionnaire'!F35:F49,"NA") -> 0 | P11: =COUNTIF('Developer Questionnaire'!F54:F59,"NA") -> 0 | Q11: =COUNTIF('Developer Questionnaire'!F64:F70,"NA") -> 0 | R11: =COUNTIF('Developer Questionnaire'!F74:F76,"NA") -> 0 | S11: =COUNTIF('Developer Questionnaire'!F81:F86,"NA") -> 0 | T11: =COUNTIF('Developer Questionnaire'!F91:F103,"NA") -> 0 | U11: =COUNTIF('Developer Questionnaire'!F108:F125,"NA") -> 0 | V11: =COUNTIF('Developer Questionnaire'!F128:F151,"NA") -> 0 | W11: =COUNTIF('Developer Questionnaire'!F156,"NA") -> 0 | X11: =COUNTIF('Developer Questionnaire'!F161,"NA") -> 0 | Y11: =COUNTIF('Developer Questionnaire'!F165,"NA") -> 0
B12: Method Name: | C12: ='Developer Questionnaire'!C15 -> [method name] | G12: REVIEWER FEEDBACK BY CATEGORY | L12: Unsure | M12: =COUNTIF('Developer Questionnaire'!F21:F24,"Unsure") -> 0 | N12: =COUNTIF('Developer Questionnaire'!F29,"Unsure") -> 0 | O12: =COUNTIF('Developer Questionnaire'!F35:F49,"Unsure") -> 0 | P12: =COUNTIF('Developer Questionnaire'!F54:F59,"Unsure") -> 0 | Q12: =COUNTIF('Developer Questionnaire'!F64:F70,"Unsure") -> 0 | R12: =COUNTIF('Developer Questionnaire'!F74:F76,"Unsure") -> 0 | S12: =COUNTIF('Developer Questionnaire'!F81:F86,"Unsure") -> 0 | T12: =COUNTIF('Developer Questionnaire'!F91:F103,"Unsure") -> 0 | U12: =COUNTIF('Developer Questionnaire'!F108:F125,"Unsure") -> 0 | V12: =COUNTIF('Developer Questionnaire'!F128:F151,"Unsure") -> 0 | W12: =COUNTIF('Developer Questionnaire'!F156,"Unsure") -> 0 | X12: =COUNTIF('Developer Questionnaire'!F161,"Unsure") -> 0 | Y12: =COUNTIF('Developer Questionnaire'!F165,"Unsure") -> 0
B13: ='Developer Questionnaire'!B16 -> Test Method Description | C13: ='Developer Questionnaire'!C16 -> [provide a brief description of the test method and its elements] | G13: [group comments by section number] | L13: Total | M13: =SUM(M10:P12) -> 20
B15: OVERALL QUESTIONNAIRE COMPLETENESS This pie chart shows the total number of questions and the proportion that have been answered.
D17: Total Questions | E17: =SUM(M4:M5) -> 76
B25: METHOD READINESS BY CRITERIA CATEGORY This bar graph shows each criteria category and the number of associated tasks completed by the method developer versus those still required to achieve method readiness. Numbers correspond to questionnaire sections. Sections 1-2 cover general developer information and provide an overview of the method. Sections 3 - 15 contain method-related tasks.
G44: REVIEWER INFORMATION
G46: Date Reviewed: | I46: [date reviewed]
G47: Reviewer Name: | I47: [reviewer name]
G48: Email: | I48: [reviewer email]

Sheet Template
B1: Method Readiness Criteria Questionnaire | H1: CAUTION: Resetting will clear the entered information and cannot be undone. We recommend saving a copy of the completed or partially completed form before proceeding.
B2: Complete all fields below using the drop-down menus or by entering your response directly into the cell. Refer to the “Definition of Criteria” and “Additional Context for Questions” columns for guidance. “Essentiality” identifies the stage (i.e., before validation, at or during transfer, and at peer review) of validation associated with each criteria category.
A3: Response Status | B3: QUESTION Grouped by Overarching Criteria Category | C3: RESPONSE Dropdown Selection | D3: SUPPORTING INFORMATION Free-text Entry | E3: Additional Context for Questions Reference Only | No User Input | F3: TASK STATUS Automated
B4: 1. Method Developer
A5: =IF(OR(C5="",C5="[organization name]"),"Not Answered","Answered") -> Not Answered | B5: Organization Name | C5: [organization name]
A6: =IF(OR(C6="",C6="[full mailing address including street address, city, state/province, postal code, and country]"),"Not Answered","Answered") -> Not Answered | B6: Organization Address | C6: [full mailing address including street address, city, state/province, postal code, and country]
A7: =IF(OR(C7="",C7="[poc name]"),"Not Answered","Answered") -> Not Answered | B7: Point of Contact (POC) | C7: [poc name]
A8: =IF(OR(C8="",C8="[poc phone number]"),"Not Answered","Answered") -> Not Answered | B8: Phone Number | C8: [poc phone number]
A9: =IF(OR(C9="",C9="[poc email]"),"Not Answered","Answered") -> Not Answered | B9: Email Address | C9: [poc email]
A10: =IF(OR(C10="",C10="[name of individual submitting questionnaire]"),"Not Answered","Answered") -> Not Answered | B10: Submitted By | C10: [name of individual submitting questionnaire]
A11: =IF(OR(C11="",C11="[date questionnaire submitted]"),"Not Answered","Answered") -> Not Answered | B11: Date Submitted | C11: [date questionnaire submitted]
B13: 2. Test Method Definition/Description:
B14: Definition of Criteria | C14: A test method is usually composed of three elements: (i) test system, (ii) protocol, and (iii) prediction model, where applicable
A15: =IF(OR(C15="",C15="[method name]"),"Not Answered","Answered") -> Not Answered | B15: Test Method Name | C15: [method name]
A16: =IF(OR(C16="",C16="[provide a brief description of the test method and its elements]"),"Not Answered","Answered") -> Not Answered | B16: Test Method Description | C16: [provide a brief description of the test method and its elements]
B18: 3. Availability/Accessibility and International Consistency of Test Method Components
B19: Definition of Criteria | C19: Test method components refer to biological material, plastic ware, instruments, reagents, culture media, protocols that are needed to perform the experimental procedure of the test method. The test method and/or its components can be commercially available or require agreements (e.g. material transfer agreement or licensing agreement).
B20: Essentiality | C20: Before Validation
A21: =IF(C21="", "Not Answered", "Answered") -> Not Answered | B21: Have method components been defined? List components. | D21: [list components] | F21: =IF(C21="Yes","Completed",IF(C21="Not Applicable","NA",IF(C21="Unsure","Unsure","Not Completed"))) -> Not Completed
A22: =IF(C22="", "Not Answered", "Answered") -> Not Answered | B22: Has the test system, cell type, platform, etc. been defined? List. | D22: [list test system, cell type, platform, etc.] | F22: =IF(C22="Yes","Completed",IF(C22="Not Applicable","NA",IF(C22="Unsure","Unsure","Not Completed"))) -> Not Completed
A23: =IF(C23="", "Not Answered", "Answered") -> Not Answered | B23: Are method components available, accessible and consistent across geographic regions? Specify whether there is an IP involved. | D23: [specify if there is an IP involved] | E23: Essentiality: Before Validation This question applies to all aspects of the test method. Special attention should be drawn to availability of chemicals (controls and reference items), materials, reagents, test systems across countries and jurisdictions. International Consistency can be checked by asking the manufacturer. | F23: =IF(C23="Yes","Completed",IF(C23="Not Applicable","NA",IF(C23="Unsure","Unsure","Not Completed"))) -> Not Completed
A24: =IF(C24="", "Not Answered", "Answered") -> Not Answered | B24: Has the test method been optimized? | D24: [add supporting information, as needed] | E24: Essentiality: Before Validation | F24: =IF(C24="Yes","Completed",IF(C24="Not Applicable","NA",IF(C24="Unsure","Unsure","Not Completed"))) -> Not Completed
B26: 4. Intellectual Property
B27: Definition of Criteria | C27: The test method and/or its components can be covered by intellectual property rights (IPR) such as a trademark or patent.
B28: Essentiality | C28: Before Validation
A29: =IF(C29="", "Not Answered", "Answered") -> Not Answered | B29: Is the method or components covered by an IPR? What are the plans to make the test method available to the public? | D29: [specify plans to make the test method available to the public] | E29: OECD 298 Guiding Principles on Good Practices for the Availability/Distribution of Protected Elements in OECD Test Guidelines. Click to go to OECD Document " | F29: =IF(C29="Yes","Completed",IF(C29="Not Applicable","NA",IF(C29="Unsure","Unsure","Not Completed"))) -> Not Completed
B31: 5. Test System
B32: Definition of Criteria | C32: The test system is the biological/chemical system that is exposed to the test items to obtain experimental data.
B33: Essentiality | C33: Before Validation
B34: 5a. Basic information and quality control
A35: =IF(C35="", "Not Answered", "Answered") -> Not Answered | B35: Is the following information available: • supplier information and contact details • unique identifier (e.g., cell registry identifier, CASRN, RRID) | D35: [specify information that is currently unavailable] | E35: RRID = Research Resource Identifier | F35: =IF(C35="Yes","Completed",IF(C35="Not Applicable","NA",IF(C35="Unsure","Unsure","Not Completed"))) -> Not Completed
A36: =IF(C36="", "Not Answered", "Answered") -> Not Answered | B36: IN CHEMICO TEST SYSTEMS ONLY Is the following information available: • purity • compatibility with assay system | D36: [list additional key information that is currently available or needed in the future] | F36: =IF(C36="Yes","Completed",IF(C36="Not Applicable","NA",IF(C36="Unsure","Unsure","Not Completed"))) -> Not Completed
A37: =IF(C37="", "Not Answered", "Answered") -> Not Answered | B37: CELL-BASED SOURCE MATERIAL Is the following information available, if applicable: • cell authentication • viability • genetic stability • mycoplasma testing • sterility testing (bacteria, virus, fungi) • primary donor cell/tissue (sex, age, health status) • cell/tissue of origin • isolation technique (primary cells) • differentiation status (hiPSCs and derivatives, primary cells) • morphology • cell-type specific marker expression • functional assessment (e.g., pluripotency, assessment for hiPSC) • mechanistic compatibility | D37: [list applicable items and the status of information availability for each] | E37: Source refers to the starting material used for the test system. It is good practice to authenticate cells on a regular basis and check their genetic stability (e.g., for each cell bank that is used for key studies). Sterility and mycoplasma testing should also be done periodically. | F37: =IF(C37="Yes","Completed",IF(C37="Not Applicable","NA",IF(C37="Unsure","Unsure","Not Completed"))) -> Not Completed
A38: =IF(C38="", "Not Answered", "Answered") -> Not Answered | B38: CELL-BASED TEST SYSTEMS THAT ARE DIFFERENT FROM THE ORIGINAL SOURCE Is the following information available, if applicable: • cell authentication • cell viability • cell genetic stability • mycoplasma testing • sterility testing (bacteria, virus, fungi) • type and method used for genetic modification (transgenic cells, clones) • reprogramming technique (hiPSC) • morphology • cell-type specific marker expression • compatibility testing of test system supplies • mechanistic compatibility | D38: [list applicable items and the status of information availability for each] | F38: =IF(C38="Yes","Completed",IF(C38="Not Applicable","NA",IF(C38="Unsure","Unsure","Not Completed"))) -> Not Completed
B39: 5b. Characterization of test system that is used in the actual experiment
B40: Definition of Criteria | C40: Characterization refers to the phenotypic and functional characterization of the test system, and is case-specific. Case 1 - When the test system that is used for the test method (exposure to the test items) is the same as the test system source, characterization is done on the starting material. Case 2 - When the test system that is used for the test method is different from the test system source, this characterization is done on the final test system. For example, if the source is hiPSC and the final test system exposed to the test item is an HPSC-derived neuron, then characterization would be done on the HPSC-derived neuron.
A41: =IF(C41="", "Not Answered", "Answered") -> Not Answered | B41: Is the test system well-defined and characterized, with decision criteria on usability of the test system at delivery, prior to exposure, following exposure? | D41: [specify primary analytical methods and LODs and provide citation if available] | E41: Essentiality: Before Validation Biological feature is for example specific cell type marker. Biological response is for example the expression of a protein after exposure to a test item. | F41: =IF(C41="Yes","Completed",IF(C41="Not Applicable","NA",IF(C41="Unsure","Unsure","Not Completed"))) -> Not Completed
A42: =IF(C42="", "Not Answered", "Answered") -> Not Answered | B42: Are the biological features maintained over time?? | D42: [list all technical artifacts and how each is mitigated] | E42: Over time may refer to cell passages, independent biological experiments, etc. | F42: =IF(C42="Yes","Completed",IF(C42="Not Applicable","NA",IF(C42="Unsure","Unsure","Not Completed"))) -> Not Completed
A43: =IF(C43="", "Not Answered", "Answered") -> Not Answered | B43: Is the functionality consistent over time (e.g., through reference and control items)? | D43: [specify precision metric and provide citation if available] | E43: A wild-type cell is the cell without a genetic modification. It is used to show that the genetically modified cell line has the required functionality and the wild type cell doesn’t. | F43: =IF(C43="Yes","Completed",IF(C43="Not Applicable","NA",IF(C43="Unsure","Unsure","Not Completed"))) -> Not Completed
B44: 5c. Acceptance criteria for the test system
B45: Definition of Criteria | C45: Acceptance criteria are qualitative and quantitative requirements for the test system to be used in the method.
A46: =IF(C46="", "Not Answered", "Answered") -> Not Answered | B46: Have acceptance criteria been defined for the test system before compound exposure? List acceptance criteria and include publication information, if available. | D46: [list acceptance criteria and include publication information, if available] | E46: Examples of acceptance criteria include minimum concentration, density, cell viability, activity/functionality, cell marker expression, negative for mycoplasma and/or other microbial contaminants, free of genetic abnormalities, correct cytoarchitecture, etc. Batch release information from the supplier may be used as acceptance criteria. | F46: =IF(C46="Yes","Completed",IF(C46="Not Applicable","NA",IF(C46="Unsure","Unsure","Not Completed"))) -> Not Completed
B47: 5d. Metabolic competence
B48: Definition of Criteria | C48: Metabolic competence refers to the capacity of the test system to metabolize test items
A49: =IF(C49="", "Not Answered", "Answered") -> Not Answered | B49: Has the endogenous metabolic competence of the test system been characterized? Specify whether the test system includes a metabolic component. | D49: [specify whether the test systems includes a metabolic component] | E49: It is important to know the metabolic competence of the test system because there are test items that can be metabolized into more or less active forms. Usually the expression and activity of phase I (e.g. CYP450) and phase II (e.g. UGT, SULT) enzymes are checked. | F49: =IF(C49="Yes","Completed",IF(C49="Not Applicable","NA",IF(C49="Unsure","Unsure","Not Completed"))) -> Not Completed
B51: 6. Control and Reference Items
B52: Definition of Criteria | C52: Control items are used to assess that the test system responds consistently across experiments and time. Eventually control items are used to establish the maximum response by the test system for data normalization. At minimum, a test method should contain a positive, negative, and/or vehicle control. A method could also include one or more reference items. See OECD Guidance Document on Good In Vitro Method Practices (GIVIMP). Click to go to OECD document "
B53: Essentiality | C53: Before Validation
A54: =IF(C54="", "Not Answered", "Answered") -> Not Answered | B54: Have positive and negative controls been defined and characterized? What are the positive, negative, and/or vehicle controls? | D54: [specify positive, negative, and/or vehicle controls and the characterization status of each, if available] | E54: Essentiality: Before Validation Controls need to be well-characterized with respect to their physical chemical properties and variability in response by the test system. Chemicals used as controls should be stable during storage, handling, and testing. For example, controls should not be volatile, oxidized, reactive with water, etc. Unstable or reactive chemicals could increase variability in results within and between laboratories. | F54: =IF(C54="Yes","Completed",IF(C54="Not Applicable","NA",IF(C54="Unsure","Unsure","Not Completed"))) -> Not Completed
A55: =IF(C55="", "Not Answered", "Answered") -> Not Answered | B55: Is the selection of the positive, negative, and vehicle controls justified? | D55: [add justification for the selection of each control] | F55: =IF(C55="Yes","Completed",IF(C55="Not Applicable","NA",IF(C55="Unsure","Unsure","Not Completed"))) -> Not Completed
A56: =IF(C56="", "Not Answered", "Answered") -> Not Answered | B56: Are any of the positive, negative, and/or vehicle controls potentially hazardous? If yes, list hazards for each control. | D56: [add potential hazards for each control, as applicable] | E56: Hazards of the control items should be known. It is recommended that extremely hazardous chemicals, persistent organic pollutants, and other test items are avoided where possible. | F56: =IF(C56="Yes","Completed",IF(C56="Not Applicable","NA",IF(C56="Unsure","Unsure","Not Completed"))) -> Not Completed
A57: =IF(C57="", "Not Answered", "Answered") -> Not Answered | B57: Are positive, negative, and/or vehicle controls performed with every test and included during each testing? | D57: [add supporting information, as needed] | F57: =IF(C57="Yes","Completed",IF(C57="Not Applicable","NA",IF(C57="Unsure","Unsure","Not Completed"))) -> Not Completed
A58: =IF(C58="", "Not Answered", "Answered") -> Not Answered | B58: Has the solubility and potential precipitation of each test item/substance been evaluated over time? | D58: [add supporting information, as needed] | F58: =IF(C58="Yes","Completed",IF(C58="Not Applicable","NA",IF(C58="Unsure","Unsure","Not Completed"))) -> Not Completed
A59: =IF(C59="", "Not Answered", "Answered") -> Not Answered | B59: TEST SYSTEMS WITH PRESERVED METABOLIC ACTIVITY Do positive controls include haptens and/or pre-haptens? | D59: [specify haptens and pre-haptens, as applicable] | F59: =IF(C59="Yes","Completed",IF(C59="Not Applicable","NA",IF(C59="Unsure","Unsure","Not Completed"))) -> Not Completed
B61: 7. Acceptance Criteria for Results
B62: Definition of Criteria | C62: Acceptance criteria are typically limits set for the maximum/minimum response or ranges within which the test systems response should fall, to confirm the correct functioning of the test system and validity of experiments and test results. Acceptance criteria can be established when sufficient historical data have been generated with the test method and its controls.
B63: Essentiality | C63: At or During Transfer
A64: =IF(C64="", "Not Answered", "Answered") -> Not Answered | B64: Have acceptance criteria for results been defined? | D64: [specify acceptance criteria] | E64: Acceptance criteria may be established for the response of the test system after exposure to reference and control items, for background response, for dynamic range and variability of replicate measurements. | F64: =IF(C64="Yes","Completed",IF(C64="Not Applicable","NA",IF(C64="Unsure","Unsure","Not Completed"))) -> Not Completed
A65: =IF(C65="", "Not Answered", "Answered") -> Not Answered | B65: Are acceptance criteria defined for dynamic range? | D65: [add supporting information, as needed] | E65: The dynamic range of a method is the difference between maximum and minimum response of the test system (usually response to solvent control and highest concentration of the reference item). | F65: =IF(C65="Yes","Completed",IF(C65="Not Applicable","NA",IF(C65="Unsure","Unsure","Not Completed"))) -> Not Completed
A66: =IF(C66="", "Not Answered", "Answered") -> Not Answered | B66: Are acceptance criteria based on normalized data? | D66: [add supporting information, as needed] | E66: Acceptance criteria are usually set using normalized data. | F66: =IF(C66="Yes","Completed",IF(C66="Not Applicable","NA",IF(C66="Unsure","Unsure","Not Completed"))) -> Not Completed
A67: =IF(C67="", "Not Answered", "Answered") -> Not Answered | B67: Are periodic evaluations of the test system performed? | D67: [specify how often evaluations are performed] | F67: =IF(C67="Yes","Completed",IF(C67="Not Applicable","NA",IF(C67="Unsure","Unsure","Not Completed"))) -> Not Completed
A68: =IF(C68="", "Not Answered", "Answered") -> Not Answered | B68: Have cell viability criteria been established? | D68: [specify viability criteria] | F68: =IF(C68="Yes","Completed",IF(C68="Not Applicable","NA",IF(C68="Unsure","Unsure","Not Completed"))) -> Not Completed
A69: =IF(C69="", "Not Answered", "Answered") -> Not Answered | B69: Are negative controls within the historical parameters for the test system? | D69: [add supporting information, as needed] | F69: =IF(C69="Yes","Completed",IF(C69="Not Applicable","NA",IF(C69="Unsure","Unsure","Not Completed"))) -> Not Completed
A70: =IF(C70="", "Not Answered", "Answered") -> Not Answered | B70: Are positive controls based on a relative increase versus the positive control based solely on statistical trends? | D70: [add supporting information, as needed] | E70: Essentiality: At or During Transfer | F70: =IF(C70="Yes","Completed",IF(C70="Not Applicable","NA",IF(C70="Unsure","Unsure","Not Completed"))) -> Not Completed
B72: 8. Identification of Critical Steps and/or Key Sources of Variability
B73: Essentiality | C73: Before Validation
A74: =IF(C74="", "Not Answered", "Answered") -> Not Answered | B74: Have critical steps (that may influence the results) and sources of variability been identified? | D74: [specify whether a graphical workflow of the test method is available] | E74: Essentiality: Before Validation The overview of the method is ideally presented with a graphical workflow showing a complete sequence of events including endpoint assessment and prediction model/data interpretation procedure application. | F74: =IF(C74="Yes","Completed",IF(C74="Not Applicable","NA",IF(C74="Unsure","Unsure","Not Completed"))) -> Not Completed
A75: =IF(C75="", "Not Answered", "Answered") -> Not Answered | B75: Has batch-to-batch variability been assessed for any of the test methods? | D75: [list components with batch-to-batch variability data] | F75: =IF(C75="Yes","Completed",IF(C75="Not Applicable","NA",IF(C75="Unsure","Unsure","Not Completed"))) -> Not Completed
A76: =IF(C76="", "Not Answered", "Answered") -> Not Answered | B76: Could the batch variability for any of the test method components (e.g., microsomes, antibodies, serum) impact the test results? If yes, how is this variability addressed? | D76: [specify how batch variability is addressed] | F76: =IF(C76="Yes","Completed",IF(C76="Not Applicable","NA",IF(C76="Unsure","Unsure","Not Completed"))) -> Not Completed
B78: 9. Detailed Protocol and Standard Operating Procedures (SOP)
B79: Definition of Criteria | C79: A detailed protocol includes a method description, consumables, chemicals, reagents and equipment needed to perform the method, a detailed description of the experimental procedure, and a procedure for data analysis, calculation of results and reporting. A detailed protocol should be test facility independent, to the extent possible, to facilitate its transfer to other laboratories, e.g. equipment that is not critical should be described in general terms in the protocol to allow different facilities to use different equipment to make the same measurements. Critical steps should be clearly identified and thoroughly described. A test facility should then define a set of Standard Operating Procedures (SOPs) implementing the detailed protocol in its specific environment.
B80: Essentiality | C80: Before Validation
A81: =IF(C81="", "Not Answered", "Answered") -> Not Answered | B81: Is there a detailed protocol for the test method? | D81: [add supporting information, as needed] | E81: Essentiality: Before Validation The overview of the method is ideally presented with a graphical workflow showing a complete sequence of events including endpoint assessment and prediction model/data interpretation procedure application. | F81: =IF(C81="Yes","Completed",IF(C81="Not Applicable","NA",IF(C81="Unsure","Unsure","Not Completed"))) -> Not Completed
A82: =IF(C82="", "Not Answered", "Answered") -> Not Answered | B82: Are the following points of method descriptions covered: • principle of the method and overview of procedural steps to perform the complete method • scientific rationale for the selection of the endpoints • known limitations and possible interference with test results • key references | D82: [specify points that are not currently covered] | E82: For the controls it is important that the protocol is clear about their identity and why they are included. | F82: =IF(C82="Yes","Completed",IF(C82="Not Applicable","NA",IF(C82="Unsure","Unsure","Not Completed"))) -> Not Completed
A83: =IF(C83="", "Not Answered", "Answered") -> Not Answered | B83: Are the following points related to consumables, chemicals, reagents specified: • specific requirements; preparation, storage and shelf life of freshly prepared reagents/solutions • CAS numbers of chemicals and procedure for preparation, storage and quality control of reagents • unique identifier and catalogue numbers / supplier information for all consumables, chemicals and reagents • positive and negative control items and any other controls • preparation of stock and work solutions of control (and reference) items • acceptable solvents and their maximum concentrations • detailed description for the preparation of the test system for use in the method • composition of medium / reagents for test system maintenance • information on routine maintenance and handling of the test system; purity information | D83: [specify points that are not currently covered] | E83: Example of test system description and functioning: U2OS cells genetically modified to express the human androgen receptor and a luciferase reporter gene. Chemicals binding to and activating the receptor will initiate luciferase production in the cells. During incubation, luciferase will transform luciferin into oxy-luciferin and light that can be measured with a luminescence plate reader. For example, maintenance of a cell-based test system includes basic cell culture procedures, storage conditions (e.g. freezing temperature), culture conditions (e.g. incubation temperature, CO2 concentration, humidity).Example of equipment specifications: The equipment should have specific filters, lasers, injectors etc. Examples of instrument qualifications / validation of analytical procedures are found in Annex 4 in TG 439 and Annex 7 in TG 492. Click to go to Test Guideline (TG) " | F83: =IF(C83="Yes","Completed",IF(C83="Not Applicable","NA",IF(C83="Unsure","Unsure","Not Completed"))) -> Not Completed
A84: =IF(C84="", "Not Answered", "Answered") -> Not Answered | B84: TEST SYSTEMS USING FLOW CYTOMETRY Are single stained and unstained cells used as control with each test run? | D84: [add supporting information, as needed] | E84: Preparation of the test system for use in the method refers to the creation (from the original source material) of the test system as then used in the method (e.g. dilution, differentiation of cells, preparation of microtissues, etc.). Examples of preparation of a test system: • hiPSCs constitute the original cell source that must be "prepared", i.e., differentiated to neurons. The neurons are the actual test system. • a sub-cellular fraction might need dilution before use on basis of protein concentration or activity Components of media, such as serum, pH indicators, proteins, hormones etc. can influence the test system performance and should be known. | F84: =IF(C84="Yes","Completed",IF(C84="Not Applicable","NA",IF(C84="Unsure","Unsure","Not Completed"))) -> Not Completed
A85: =IF(C85="", "Not Answered", "Answered") -> Not Answered | B85: Are the following points described in detail in the experimental procedures, if applicable or established? • procedure for selection of the solvent • procedure for selection of the test item dose range, including solubility and cytotoxicity testing (where applicable) • requirements for the generation of proper dose-response information (where applicable) • highest concentration to be prepared (when soluble) • procedure for preparation of test items for application to the test system • procedure for preparation and testing of control (and reference) items • experimental layout, including all controls, number of technical • replicates per concentration • procedure for exposure/dosing • duration of exposure • incubation conditions (temperature, humidity, CO2 concentration) • acceptable ranges for e.g. exposure time, incubation temperature and other variables • procedure and conditions for measuring the endpoint and acquiring data | D85: [specify points that are not currently described or established] | E85: For the controls it is important that the protocol is clear about how the results should be used. Biological replicates are experiment performed on different time points, with freshly prepared test system (e.g. new solution, different passage number, different batch) and solutions. | F85: =IF(C85="Yes","Completed",IF(C85="Not Applicable","NA",IF(C85="Unsure","Unsure","Not Completed"))) -> Not Completed
A86: =IF(C86="", "Not Answered", "Answered") -> Not Answered | B86: Are the following points described in detail for data analysis, calculation of results and reporting? • raw data to be recorded • description of eventual software to be used for data analysis, including its version • procedure for processing data from control, reference and test items, including all the necessary equations and calculations (e.g. dose response equation, EC or IC values) • acceptance criteria for experiments and test results • number of biological replicates needed to derive a result/prediction • data interpretation procedure / prediction model (if applicable) • a detailed statistical analysis plan (if applicable) • procedure for reporting of results | D86: [specify points that are not currently described, including whether a detailed statistical analysis plan is established] | E86: For the controls it is important that the protocol is clear about how they should be prepared. Technical replicates are the number of replicates per test item concentration within the same experiment. An acceptable range for incubation time could be for example 20h +/- 1h. The procedure for performing the method could also include any procedure to be performed prior to the test to verify that the experimental setup is consistent with historical data, e.g. periodically run an iodide standard curve to confirm the correct functioning of the Sandell Kolthoff reaction. | F86: =IF(C86="Yes","Completed",IF(C86="Not Applicable","NA",IF(C86="Unsure","Unsure","Not Completed"))) -> Not Completed
B88: 10. Data Management, Evaluation, and Interpretation
B89: Essentiality | C89: Before Validation
B90: 10a. Data management
A91: =IF(C91="", "Not Answered", "Answered") -> Not Answered | B91: Is documentation or recommendations on data formats provided? | D91: [add supporting information, as needed] | E91: Raw data are the data as obtained from the instrument and/or operator. Example: Providing proper metadata for image acquisition and analysis optimize data sharing, comparison and interpretation, and re-usability | F91: =IF(C91="Yes","Completed",IF(C91="Not Applicable","NA",IF(C91="Unsure","Unsure","Not Completed"))) -> Not Completed
A92: =IF(C92="", "Not Answered", "Answered") -> Not Answered | B92: Are open standards used to store data? | D92: [add supporting information, as needed] | F92: =IF(C92="Yes","Completed",IF(C92="Not Applicable","NA",IF(C92="Unsure","Unsure","Not Completed"))) -> Not Completed
A93: =IF(C93="", "Not Answered", "Answered") -> Not Answered | B93: Are data stored according to FAIR standards? | D93: [add supporting information, as needed] | E93: Example: Depositing omics based data in a data repository (e.g., Gene Expression Omnibus (GEO)) Click to go to website " | F93: =IF(C93="Yes","Completed",IF(C93="Not Applicable","NA",IF(C93="Unsure","Unsure","Not Completed"))) -> Not Completed
A94: =IF(C94="", "Not Answered", "Answered") -> Not Answered | B94: Is there a standardized format for collecting data (e.g. a validated spreadsheet, calculator, etc.)? | D94: [add supporting information, as needed] | E94: OECD Omics Reporting Framework (OORF): Guidance on reporting elements for the regulatory use of omics data from laboratory‑based toxicology studies. Click to go to OECD Document " | F94: =IF(C94="Yes","Completed",IF(C94="Not Applicable","NA",IF(C94="Unsure","Unsure","Not Completed"))) -> Not Completed
A95: =IF(C95="", "Not Answered", "Answered") -> Not Answered | B95: Are all data produced for test, control and reference items, from both valid and non-valid tests / runs / experiments recorded? | D95: [add supporting information, as needed] | E95: Non-valid tests / runs / experiments are those that do not meet the test method’s acceptance criteria. | F95: =IF(C95="Yes","Completed",IF(C95="Not Applicable","NA",IF(C95="Unsure","Unsure","Not Completed"))) -> Not Completed
A96: =IF(C96="", "Not Answered", "Answered") -> Not Answered | B96: Is there a protocol for handling equivocal results? | D96: [add supporting information, as needed] | F96: =IF(C96="Yes","Completed",IF(C96="Not Applicable","NA",IF(C96="Unsure","Unsure","Not Completed"))) -> Not Completed
B97: 10b. Data processing
A98: =IF(C98="", "Not Answered", "Answered") -> Not Answered | B98: DOSE-RESPONSE DATA Is there a detailed procedure for curve-fitting? | D98: [add supporting information, as needed] | E98: Typically an excel template is prepared for the collection and automatic calculation of results from the raw data. These templates should be properly validated before use to ensure their correct output and to avoid uncontrolled modifications | F98: =IF(C98="Yes","Completed",IF(C98="Not Applicable","NA",IF(C98="Unsure","Unsure","Not Completed"))) -> Not Completed
A99: =IF(C99="", "Not Answered", "Answered") -> Not Answered | B99: Is there a method for outlier analysis? | D99: [specify method] | E99: Typically an excel template is prepared for the collection and automatic calculation of results from the raw data. These templates should be properly validated before use to ensure their correct output and to avoid uncontrolled modifications | F99: =IF(C99="Yes","Completed",IF(C99="Not Applicable","NA",IF(C99="Unsure","Unsure","Not Completed"))) -> Not Completed
B100: 10c. Prediction model (PM) / data interpretation procedure (DIP)
A101: =IF(C101="", "Not Answered", "Answered") -> Not Answered | B101: Is there a PM/DIP to decide if a test item is active/positive or inactive/negative for the mechanistic endpoint(s) covered by the method? | D101: [add supporting information, as needed] | F101: =IF(C101="Yes","Completed",IF(C101="Not Applicable","NA",IF(C101="Unsure","Unsure","Not Completed"))) -> Not Completed
A102: =IF(C102="", "Not Answered", "Answered") -> Not Answered | B102: Is there a PM/DIP to predict a regulatory endpoint from the collected data? | D102: [add supporting information, as needed] | F102: =IF(C102="Yes","Completed",IF(C102="Not Applicable","NA",IF(C102="Unsure","Unsure","Not Completed"))) -> Not Completed
A103: =IF(C103="", "Not Answered", "Answered") -> Not Answered | B103: Is there a clear cut-off for positive results? | D103: [add supporting information, as needed] | F103: =IF(C103="Yes","Completed",IF(C103="Not Applicable","NA",IF(C103="Unsure","Unsure","Not Completed"))) -> Not Completed
B105: 11. Test Method Reliability, Reproducibility, and Repeatability
B106: 11a. Training
B107: Essentiality | C107: At or During Transfer
A108: =IF(C108="", "Not Answered", "Answered") -> Not Answered | B108: Has a training protocol been developed? | D108: [add supporting information, as needed] | F108: =IF(C108="Yes","Completed",IF(C108="Not Applicable","NA",IF(C108="Unsure","Unsure","Not Completed"))) -> Not Completed
A109: =IF(C109="", "Not Answered", "Answered") -> Not Answered | B109: Have other labs (excluding developer lab) been trained? | D109: [specify points that are not currently covered] | F109: =IF(C109="Yes","Completed",IF(C109="Not Applicable","NA",IF(C109="Unsure","Unsure","Not Completed"))) -> Not Completed
B110: 11b. Chemicals / test item selection for reliability assessment
...
