Workbook

Sheet Instructions
B1: User Instructions - Method Readiness Criteria Questionnaire
B2: Please scroll down to read all instructions before completing this questionnaire. Responses will be used to assess the readiness of a method for formal validation and to identify any gaps requiring resolution prior to proceeding.
B20: Completing the Developer Questionnaire
X39: Page 1 of 3
X84: Page 2 of 3
X135: User Instructions
X136: Page of 3

Sheet Developer Questionnaire
B1: Method Readiness Criteria Questionnaire | H1: CAUTION: Resetting will clear the entered information and cannot be undone. We recommend saving a copy of the completed or partially completed form before proceeding.
B2: Complete all fields below using the drop-down menus or by entering your response directly into the cell. Refer to the “Definition of Criteria” and “Additional Context for Questions” columns for guidance. “Essentiality” identifies the stage (i.e., before validation, at or during transfer, and at peer review) of validation associated with each criteria category.
A3: Response Status | B3: QUESTION Grouped by Overarching Criteria Category | C3: RESPONSE Dropdown Selection | D3: SUPPORTING INFORMATION Free-text Entry | E3: Additional Context for Questions Reference Only | No User Input | F3: TASK STATUS Automated
B4: 1. Method Developer
A5: =IF(OR(C5="",C5="[organization name]"),"Not Answered","Answered") -> Not Answered | B5: Organization Name | C5: [organization name]
A6: =IF(OR(C6="",C6="[full mailing address including street address, city, state/province, postal code, and country]"),"Not Answered","Answered") -> Not Answered | B6: Organization Address | C6: [full mailing address including street address, city, state/province, postal code, and country]
A7: =IF(OR(C7="",C7="[poc name]"),"Not Answered","Answered") -> Not Answered | B7: Point of Contact (POC) | C7: [poc name]
A8: =IF(OR(C8="",C8="[poc phone number]"),"Not Answered","Answered") -> Not Answered | B8: Phone Number | C8: [poc phone number]
A9: =IF(OR(C9="",C9="[poc email]"),"Not Answered","Answered") -> Not Answered | B9: Email Address | C9: [poc email]
A10: =IF(OR(C10="",C10="[name of individual submitting questionnaire]"),"Not Answered","Answered") -> Not Answered | B10: Submitted By | C10: [name of individual submitting questionnaire]
A11: =IF(OR(C11="",C11="[date questionnaire submitted]"),"Not Answered","Answered") -> Not Answered | B11: Date Submitted | C11: [date questionnaire submitted]
B13: 2. Test Method Definition/Description:
B14: Definition of Criteria | C14: A test method is usually composed of three elements: (i) test system, (ii) protocol, and (iii) prediction model, where applicable
A15: =IF(OR(C15="",C15="[method name]"),"Not Answered","Answered") -> Not Answered | B15: Test Method Name | C15: [method name]
A16: =IF(OR(C16="",C16="[provide a brief description of the test method and its elements]"),"Not Answered","Answered") -> Not Answered | B16: Test Method Description | C16: [provide a brief description of the test method and its elements]
B18: 3. Availability/Accessibility and International Consistency of Test Method Components
B19: Definition of Criteria | C19: Test method components refer to biological material, plastic ware, instruments, reagents, culture media, protocols that are needed to perform the experimental procedure of the test method. The test method and/or its components can be commercially available or require agreements (e.g. material transfer agreement or licensing agreement).
B20: Essentiality | C20: Before Validation
A21: =IF(C21="", "Not Answered", "Answered") -> Not Answered | B21: Have method components been defined? List components. | D21: [list components] | F21: =IF(C21="Yes","Completed",IF(C21="Not Applicable","NA",IF(C21="Unsure","Unsure","Not Completed"))) -> Not Completed
A22: =IF(C22="", "Not Answered", "Answered") -> Not Answered | B22: Has the test system, cell type, platform, etc. been defined? List. | D22: [list test system, cell type, platform, etc.] | F22: =IF(C22="Yes","Completed",IF(C22="Not Applicable","NA",IF(C22="Unsure","Unsure","Not Completed"))) -> Not Completed
A23: =IF(C23="", "Not Answered", "Answered") -> Not Answered | B23: Are method components available, accessible and consistent across geographic regions? Specify whether there is an IP involved. | D23: [specify if there is an IP involved] | E23: Essentiality: Before Validation This question applies to all aspects of the test method. Special attention should be drawn to availability of chemicals (controls and reference items), materials, reagents, test systems across countries and jurisdictions. International Consistency can be checked by asking the manufacturer. | F23: =IF(C23="Yes","Completed",IF(C23="Not Applicable","NA",IF(C23="Unsure","Unsure","Not Completed"))) -> Not Completed
A24: =IF(C24="", "Not Answered", "Answered") -> Not Answered | B24: Has the test method been optimized? | D24: [add supporting information, as needed] | E24: Essentiality: Before Validation | F24: =IF(C24="Yes","Completed",IF(C24="Not Applicable","NA",IF(C24="Unsure","Unsure","Not Completed"))) -> Not Completed
B26: 4. Intellectual Property
B27: Definition of Criteria | C27: The test method and/or its components can be covered by intellectual property rights (IPR) such as a trademark or patent.
B28: Essentiality | C28: Before Validation
A29: =IF(C29="", "Not Answered", "Answered") -> Not Answered | B29: Is the method or components covered by an IPR? What are the plans to make the test method available to the public? | D29: [specify plans to make the test method available to the public] | E29: OECD 298 Guiding Principles on Good Practices for the Availability/Distribution of Protected Elements in OECD Test Guidelines. Click to go to OECD Document " | F29: =IF(C29="Yes","Completed",IF(C29="Not Applicable","NA",IF(C29="Unsure","Unsure","Not Completed"))) -> Not Completed
B31: 5. Test System
B32: Definition of Criteria | C32: The test system is the biological/chemical system that is exposed to the test items to obtain experimental data.
B33: Essentiality | C33: Before Validation
B34: 5a. Basic information and quality control
A35: =IF(C35="", "Not Answered", "Answered") -> Not Answered | B35: Is the following information available: • supplier information and contact details • unique identifier (e.g., cell registry identifier, CASRN, RRID) | D35: [specify information that is currently unavailable] | E35: RRID = Research Resource Identifier | F35: =IF(C35="Yes","Completed",IF(C35="Not Applicable","NA",IF(C35="Unsure","Unsure","Not Completed"))) -> Not Completed
A36: =IF(C36="", "Not Answered", "Answered") -> Not Answered | B36: IN CHEMICO TEST SYSTEMS ONLY Is the following information available: • purity • compatibility with assay system | D36: [list additional key information that is currently available or needed in the future] | F36: =IF(C36="Yes","Completed",IF(C36="Not Applicable","NA",IF(C36="Unsure","Unsure","Not Completed"))) -> Not Completed
A37: =IF(C37="", "Not Answered", "Answered") -> Not Answered | B37: CELL-BASED SOURCE MATERIAL Is the following information available, if applicable: • cell authentication • viability • genetic stability • mycoplasma testing • sterility testing (bacteria, virus, fungi) • primary donor cell/tissue (sex, age, health status) • cell/tissue of origin • isolation technique (primary cells) • differentiation status (hiPSCs and derivatives, primary cells) • morphology • cell-type specific marker expression • functional assessment (e.g., pluripotency, assessment for hiPSC) • mechanistic compatibility | D37: [list applicable items and the status of information availability for each] | E37: Source refers to the starting material used for the test system. It is good practice to authenticate cells on a regular basis and check their genetic stability (e.g., for each cell bank that is used for key studies). Sterility and mycoplasma testing should also be done periodically. | F37: =IF(C37="Yes","Completed",IF(C37="Not Applicable","NA",IF(C37="Unsure","Unsure","Not Completed"))) -> Not Completed
A38: =IF(C38="", "Not Answered", "Answered") -> Not Answered | B38: CELL-BASED TEST SYSTEMS THAT ARE DIFFERENT FROM THE ORIGINAL SOURCE Is the following information available, if applicable: • cell authentication • cell viability • cell genetic stability • mycoplasma testing • sterility testing (bacteria, virus, fungi) • type and method used for genetic modification (transgenic cells, clones) • reprogramming technique (hiPSC) • morphology • cell-type specific marker expression • compatibility testing of test system supplies • mechanistic compatibility | D38: [list applicable items and the status of information availability for each] | F38: =IF(C38="Yes","Completed",IF(C38="Not Applicable","NA",IF(C38="Unsure","Unsure","Not Completed"))) -> Not Completed
B39: 5b. Characterization of test system that is used in the actual experiment
B40: Definition of Criteria | C40: Characterization refers to the phenotypic and functional characterization of the test system, and is case-specific. Case 1 - When the test system that is used for the test method (exposure to the test items) is the same as the test system source, characterization is done on the starting material. Case 2 - When the test system that is used for the test method is different from the test system source, this characterization is done on the final test system. For example, if the source is hiPSC and the final test system exposed to the test item is an HPSC-derived neuron, then characterization would be done on the HPSC-derived neuron.
A41: =IF(C41="", "Not Answered", "Answered") -> Not Answered | B41: Is the test system well-defined and characterized, with decision criteria on usability of the test system at delivery, prior to exposure, following exposure? | D41: [specify primary analytical methods and LODs and provide citation if available] | E41: Essentiality: Before Validation Biological feature is for example specific cell type marker. Biological response is for example the expression of a protein after exposure to a test item. | F41: =IF(C41="Yes","Completed",IF(C41="Not Applicable","NA",IF(C41="Unsure","Unsure","Not Completed"))) -> Not Completed
A42: =IF(C42="", "Not Answered", "Answered") -> Not Answered | B42: Are the biological features maintained over time?? | D42: [list all technical artifacts and how each is mitigated] | E42: Over time may refer to cell passages, independent biological experiments, etc. | F42: =IF(C42="Yes","Completed",IF(C42="Not Applicable","NA",IF(C42="Unsure","Unsure","Not Completed"))) -> Not Completed
A43: =IF(C43="", "Not Answered", "Answered") -> Not Answered | B43: Is the functionality consistent over time (e.g., through reference and control items)? | D43: [specify precision metric and provide citation if available] | E43: A wild-type cell is the cell without a genetic modification. It is used to show that the genetically modified cell line has the required functionality and the wild type cell doesn’t. | F43: =IF(C43="Yes","Completed",IF(C43="Not Applicable","NA",IF(C43="Unsure","Unsure","Not Completed"))) -> Not Completed
B44: 5c. Acceptance criteria for the test system
...

Sheet Summary
B1: Method Readiness Criteria Summary
B2: INTERNAL USE ONLY. To be completed by internal reviewers only.
B3: METHOD DEVELOPER | G3: READINESS STATUS | L3: Summary of Developer Responses | M3: Count
B4: Organization Name: | C4: ='Developer Questionnaire'!C5 -> [organization name] | D4: Point of Contact : | E4: ='Developer Questionnaire'!C7 -> [poc name] | G4: FALSE | H4: Ready to Proceed | L4: Answered | M4: =COUNTIF('Developer Questionnaire'!A4:A165,"Answered") -> 0
B5: Organization Address: | C5: ='Developer Questionnaire'!C6 -> [full mailing address including street address, city, state/province, postal code, and country] | H5: All critical criteria are met. Method is ready to proceed. | L5: Not Answered | M5: =COUNTIF('Developer Questionnaire'!A4:A165,"Not Answered") -> 76
D6: Phone Number: | E6: ='Developer Questionnaire'!C8 -> [poc phone number] | G6: FALSE | H6: Conditionally Ready
B7: Submitted by : | C7: ='Developer Questionnaire'!C10 -> [name of individual submitting questionnaire] | D7: Email Address: | E7: ='Developer Questionnaire'!C9 -> [poc email] | H7: Minor gaps have been identified. Method can proceed after gaps have been addressed. | M7: Section
B8: Date Submitted: | C8: ='Developer Questionnaire'!C11 -> [date questionnaire submitted] | G8: FALSE | H8: Not Ready Significant gaps identified requiring further method development and resubmission. | L8: Status | M8: 3. Availability/Accessibility and International Consistency of Test Method Components | N8: 4. Intellectual Property | O8: 5. Test System | P8: 6. Control and Reference Items | Q8: 7. Acceptance Criteria for Results | R8: 8. Identification of Critical Steps and/or Key Sources of Variability | S8: 9. Detailed Protocol and Standard Operating Procedures (SOP) | T8: 10. Data Management, Evaluation, and Interpretation | U8: 11. Test Method Reliability, Reproducibilty, and Repeatability | V8: 12. Test Method Relevance | W8: 13. Predictive Capacity | X8: 14. Limitations and Applicability Domain | Y8: 15.Uncertainties
L9: Completed | M9: =COUNTIF('Developer Questionnaire'!F21:F24,"Completed") -> 0 | N9: =COUNTIF('Developer Questionnaire'!F29,"Completed") -> 0 | O9: =COUNTIF('Developer Questionnaire'!F35:F49,"Completed") -> 0 | P9: =COUNTIF('Developer Questionnaire'!F54:F59,"Completed") -> 0 | Q9: =COUNTIF('Developer Questionnaire'!F64:F70,"Completed") -> 0 | R9: =COUNTIF('Developer Questionnaire'!F74:F76,"Completed") -> 0 | S9: =COUNTIF('Developer Questionnaire'!F81:F86,"Completed") -> 0 | T9: =COUNTIF('Developer Questionnaire'!F91:F103,"Completed") -> 0 | U9: =COUNTIF('Developer Questionnaire'!F108:F125,"Completed") -> 0 | V9: =COUNTIF('Developer Questionnaire'!F128:F151,"Completed") -> 0 | W9: =COUNTIF('Developer Questionnaire'!F156,"Completed") -> 0 | X9: =COUNTIF('Developer Questionnaire'!F161,"Completed") -> 0 | Y9: =COUNTIF('Developer Questionnaire'!F165,"Completed") -> 0
L10: Not Completed | M10: =COUNTIF('Developer Questionnaire'!F21:F24,"Not Completed") -> 4 | N10: =COUNTIF('Developer Questionnaire'!F29,"Not Completed") -> 1 | O10: =COUNTIF('Developer Questionnaire'!F35:F49,"Not Completed") -> 9 | P10: =COUNTIF('Developer Questionnaire'!F54:F59,"Not Completed") -> 6 | Q10: =COUNTIF('Developer Questionnaire'!F64:F70,"Not Completed") -> 7 | R10: =COUNTIF('Developer Questionnaire'!F74:F76,"Not Completed") -> 3 | S10: =COUNTIF('Developer Questionnaire'!F81:F86,"Not Completed") -> 6 | T10: =COUNTIF('Developer Questionnaire'!F91:F103,"Not Completed") -> 11 | U10: =COUNTIF('Developer Questionnaire'!F108:F125,"Not Completed") -> 7 | V10: =COUNTIF('Developer Questionnaire'!F128:F151,"Not Completed") -> 10 | W10: =COUNTIF('Developer Questionnaire'!F156,"Not Completed") -> 1 | X10: =COUNTIF('Developer Questionnaire'!F161,"Not Completed") -> 1 | Y10: =COUNTIF('Developer Questionnaire'!F165,"Not Completed") -> 1
B11: METHOD OVERVIEW | L11: Not Applicable to Method | M11: =COUNTIF('Developer Questionnaire'!F21:F24,"NA") -> 0 | N11: =COUNTIF('Developer Questionnaire'!F29,"NA") -> 0 | O11: =COUNTIF('Developer Questionnaire'!F35:F49,"NA") -> 0 | P11: =COUNTIF('Developer Questionnaire'!F54:F59,"NA") -> 0 | Q11: =COUNTIF('Developer Questionnaire'!F64:F70,"NA") -> 0 | R11: =COUNTIF('Developer Questionnaire'!F74:F76,"NA") -> 0 | S11: =COUNTIF('Developer Questionnaire'!F81:F86,"NA") -> 0 | T11: =COUNTIF('Developer Questionnaire'!F91:F103,"NA") -> 0 | U11: =COUNTIF('Developer Questionnaire'!F108:F125,"NA") -> 0 | V11: =COUNTIF('Developer Questionnaire'!F128:F151,"NA") -> 0 | W11: =COUNTIF('Developer Questionnaire'!F156,"NA") -> 0 | X11: =COUNTIF('Developer Questionnaire'!F161,"NA") -> 0 | Y11: =COUNTIF('Developer Questionnaire'!F165,"NA") -> 0
B12: Method Name: | C12: ='Developer Questionnaire'!C15 -> [method name] | G12: REVIEWER FEEDBACK BY CATEGORY | L12: Unsure | M12: =COUNTIF('Developer Questionnaire'!F21:F24,"Unsure") -> 0 | N12: =COUNTIF('Developer Questionnaire'!F29,"Unsure") -> 0 | O12: =COUNTIF('Developer Questionnaire'!F35:F49,"Unsure") -> 0 | P12: =COUNTIF('Developer Questionnaire'!F54:F59,"Unsure") -> 0 | Q12: =COUNTIF('Developer Questionnaire'!F64:F70,"Unsure") -> 0 | R12: =COUNTIF('Developer Questionnaire'!F74:F76,"Unsure") -> 0 | S12: =COUNTIF('Developer Questionnaire'!F81:F86,"Unsure") -> 0 | T12: =COUNTIF('Developer Questionnaire'!F91:F103,"Unsure") -> 0 | U12: =COUNTIF('Developer Questionnaire'!F108:F125,"Unsure") -> 0 | V12: =COUNTIF('Developer Questionnaire'!F128:F151,"Unsure") -> 0 | W12: =COUNTIF('Developer Questionnaire'!F156,"Unsure") -> 0 | X12: =COUNTIF('Developer Questionnaire'!F161,"Unsure") -> 0 | Y12: =COUNTIF('Developer Questionnaire'!F165,"Unsure") -> 0
B13: ='Developer Questionnaire'!B16 -> Test Method Description | C13: ='Developer Questionnaire'!C16 -> [provide a brief description of the test method and its elements] | G13: [group comments by section number] | L13: Total | M13: =SUM(M10:P12) -> 20
B15: OVERALL QUESTIONNAIRE COMPLETENESS This pie chart shows the total number of questions and the proportion that have been answered.
D17: Total Questions | E17: =SUM(M4:M5) -> 76
B25: METHOD READINESS BY CRITERIA CATEGORY This bar graph shows each criteria category and the number of associated tasks completed by the method developer versus those still required to achieve method readiness. Numbers correspond to questionnaire sections. Sections 1-2 cover general developer information and provide an overview of the method. Sections 3 - 15 contain method-related tasks.
G44: REVIEWER INFORMATION
G46: Date Reviewed: | I46: [date reviewed]
G47: Reviewer Name: | I47: [reviewer name]
G48: Email: | I48: [reviewer email]

Sheet Template
B1: Method Readiness Criteria Questionnaire | H1: CAUTION: Resetting will clear the entered information and cannot be undone. We recommend saving a copy of the completed or partially completed form before proceeding.
B2: Complete all fields below using the drop-down menus or by entering your response directly into the cell. Refer to the “Definition of Criteria” and “Additional Context for Questions” columns for guidance. “Essentiality” identifies the stage (i.e., before validation, at or during transfer, and at peer review) of validation associated with each criteria category.
A3: Response Status | B3: QUESTION Grouped by Overarching Criteria Category | C3: RESPONSE Dropdown Selection | D3: SUPPORTING INFORMATION Free-text Entry | E3: Additional Context for Questions Reference Only | No User Input | F3: TASK STATUS Automated
B4: 1. Method Developer
A5: =IF(OR(C5="",C5="[organization name]"),"Not Answered","Answered") -> Not Answered | B5: Organization Name | C5: [organization name]
A6: =IF(OR(C6="",C6="[full mailing address including street address, city, state/province, postal code, and country]"),"Not Answered","Answered") -> Not Answered | B6: Organization Address | C6: [full mailing address including street address, city, state/province, postal code, and country]
A7: =IF(OR(C7="",C7="[poc name]"),"Not Answered","Answered") -> Not Answered | B7: Point of Contact (POC) | C7: [poc name]
A8: =IF(OR(C8="",C8="[poc phone number]"),"Not Answered","Answered") -> Not Answered | B8: Phone Number | C8: [poc phone number]
A9: =IF(OR(C9="",C9="[poc email]"),"Not Answered","Answered") -> Not Answered | B9: Email Address | C9: [poc email]
A10: =IF(OR(C10="",C10="[name of individual submitting questionnaire]"),"Not Answered","Answered") -> Not Answered | B10: Submitted By | C10: [name of individual submitting questionnaire]
A11: =IF(OR(C11="",C11="[date questionnaire submitted]"),"Not Answered","Answered") -> Not Answered | B11: Date Submitted | C11: [date questionnaire submitted]
B13: 2. Test Method Definition/Description:
B14: Definition of Criteria | C14: A test method is usually composed of three elements: (i) test system, (ii) protocol, and (iii) prediction model, where applicable
A15: =IF(OR(C15="",C15="[method name]"),"Not Answered","Answered") -> Not Answered | B15: Test Method Name | C15: [method name]
A16: =IF(OR(C16="",C16="[provide a brief description of the test method and its elements]"),"Not Answered","Answered") -> Not Answered | B16: Test Method Description | C16: [provide a brief description of the test method and its elements]
B18: 3. Availability/Accessibility and International Consistency of Test Method Components
B19: Definition of Criteria | C19: Test method components refer to biological material, plastic ware, instruments, reagents, culture media, protocols that are needed to perform the experimental procedure of the test method. The test method and/or its components can be commercially available or require agreements (e.g. material transfer agreement or licensing agreement).
B20: Essentiality | C20: Before Validation
A21: =IF(C21="", "Not Answered", "Answered") -> Not Answered | B21: Have method components been defined? List components. | D21: [list components] | F21: =IF(C21="Yes","Completed",IF(C21="Not Applicable","NA",IF(C21="Unsure","Unsure","Not Completed"))) -> Not Completed
A22: =IF(C22="", "Not Answered", "Answered") -> Not Answered | B22: Has the test system, cell type, platform, etc. been defined? List. | D22: [list test system, cell type, platform, etc.] | F22: =IF(C22="Yes","Completed",IF(C22="Not Applicable","NA",IF(C22="Unsure","Unsure","Not Completed"))) -> Not Completed
A23: =IF(C23="", "Not Answered", "Answered") -> Not Answered | B23: Are method components available, accessible and consistent across geographic regions? Specify whether there is an IP involved. | D23: [specify if there is an IP involved] | E23: Essentiality: Before Validation This question applies to all aspects of the test method. Special attention should be drawn to availability of chemicals (controls and reference items), materials, reagents, test systems across countries and jurisdictions. International Consistency can be checked by asking the manufacturer. | F23: =IF(C23="Yes","Completed",IF(C23="Not Applicable","NA",IF(C23="Unsure","Unsure","Not Completed"))) -> Not Completed
A24: =IF(C24="", "Not Answered", "Answered") -> Not Answered | B24: Has the test method been optimized? | D24: [add supporting information, as needed] | E24: Essentiality: Before Validation | F24: =IF(C24="Yes","Completed",IF(C24="Not Applicable","NA",IF(C24="Unsure","Unsure","Not Completed"))) -> Not Completed
B26: 4. Intellectual Property
B27: Definition of Criteria | C27: The test method and/or its components can be covered by intellectual property rights (IPR) such as a trademark or patent.
B28: Essentiality | C28: Before Validation
A29: =IF(C29="", "Not Answered", "Answered") -> Not Answered | B29: Is the method or components covered by an IPR? What are the plans to make the test method available to the public? | D29: [specify plans to make the test method available to the public] | E29: OECD 298 Guiding Principles on Good Practices for the Availability/Distribution of Protected Elements in OECD Test Guidelines. Click to go to OECD Document " | F29: =IF(C29="Yes","Completed",IF(C29="Not Applicable","NA",IF(C29="Unsure","Unsure","Not Completed"))) -> Not Completed
B31: 5. Test System
B32: Definition of Criteria | C32: The test system is the biological/chemical system that is exposed to the test items to obtain experimental data.
B33: Essentiality | C33: Before Validation
B34: 5a. Basic information and quality control
A35: =IF(C35="", "Not Answered", "Answered") -> Not Answered | B35: Is the following information available: • supplier information and contact details • unique identifier (e.g., cell registry identifier, CASRN, RRID) | D35: [specify information that is currently unavailable] | E35: RRID = Research Resource Identifier | F35: =IF(C35="Yes","Completed",IF(C35="Not Applicable","NA",IF(C35="Unsure","Unsure","Not Completed"))) -> Not Completed
A36: =IF(C36="", "Not Answered", "Answered") -> Not Answered | B36: IN CHEMICO TEST SYSTEMS ONLY Is the following information available: • purity • compatibility with assay system | D36: [list additional key information that is currently available or needed in the future] | F36: =IF(C36="Yes","Completed",IF(C36="Not Applicable","NA",IF(C36="Unsure","Unsure","Not Completed"))) -> Not Completed
A37: =IF(C37="", "Not Answered", "Answered") -> Not Answered | B37: CELL-BASED SOURCE MATERIAL Is the following information available, if applicable: • cell authentication • viability • genetic stability • mycoplasma testing • sterility testing (bacteria, virus, fungi) • primary donor cell/tissue (sex, age, health status) • cell/tissue of origin • isolation technique (primary cells) • differentiation status (hiPSCs and derivatives, primary cells) • morphology • cell-type specific marker expression • functional assessment (e.g., pluripotency, assessment for hiPSC) • mechanistic compatibility | D37: [list applicable items and the status of information availability for each] | E37: Source refers to the starting material used for the test system. It is good practice to authenticate cells on a regular basis and check their genetic stability (e.g., for each cell bank that is used for key studies). Sterility and mycoplasma testing should also be done periodically. | F37: =IF(C37="Yes","Completed",IF(C37="Not Applicable","NA",IF(C37="Unsure","Unsure","Not Completed"))) -> Not Completed
A38: =IF(C38="", "Not Answered", "Answered") -> Not Answered | B38: CELL-BASED TEST SYSTEMS THAT ARE DIFFERENT FROM THE ORIGINAL SOURCE Is the following information available, if applicable: • cell authentication • cell viability • cell genetic stability • mycoplasma testing • sterility testing (bacteria, virus, fungi) • type and method used for genetic modification (transgenic cells, clones) • reprogramming technique (hiPSC) • morphology • cell-type specific marker expression • compatibility testing of test system supplies • mechanistic compatibility | D38: [list applicable items and the status of information availability for each] | F38: =IF(C38="Yes","Completed",IF(C38="Not Applicable","NA",IF(C38="Unsure","Unsure","Not Completed"))) -> Not Completed
B39: 5b. Characterization of test system that is used in the actual experiment
B40: Definition of Criteria | C40: Characterization refers to the phenotypic and functional characterization of the test system, and is case-specific. Case 1 - When the test system that is used for the test method (exposure to the test items) is the same as the test system source, characterization is done on the starting material. Case 2 - When the test system that is used for the test method is different from the test system source, this characterization is done on the final test system. For example, if the source is hiPSC and the final test system exposed to the test item is an HPSC-derived neuron, then characterization would be done on the HPSC-derived neuron.
A41: =IF(C41="", "Not Answered", "Answered") -> Not Answered | B41: Is the test system well-defined and characterized, with decision criteria on usability of the test system at delivery, prior to exposure, following exposure? | D41: [specify primary analytical methods and LODs and provide citation if available] | E41: Essentiality: Before Validation Biological feature is for example specific cell type marker. Biological response is for example the expression of a protein after exposure to a test item. | F41: =IF(C41="Yes","Completed",IF(C41="Not Applicable","NA",IF(C41="Unsure","Unsure","Not Completed"))) -> Not Completed
A42: =IF(C42="", "Not Answered", "Answered") -> Not Answered | B42: Are the biological features maintained over time?? | D42: [list all technical artifacts and how each is mitigated] | E42: Over time may refer to cell passages, independent biological experiments, etc. | F42: =IF(C42="Yes","Completed",IF(C42="Not Applicable","NA",IF(C42="Unsure","Unsure","Not Completed"))) -> Not Completed
A43: =IF(C43="", "Not Answered", "Answered") -> Not Answered | B43: Is the functionality consistent over time (e.g., through reference and control items)? | D43: [specify precision metric and provide citation if available] | E43: A wild-type cell is the cell without a genetic modification. It is used to show that the genetically modified cell line has the required functionality and the wild type cell doesn’t. | F43: =IF(C43="Yes","Completed",IF(C43="Not Applicable","NA",IF(C43="Unsure","Unsure","Not Completed"))) -> Not Completed
B44: 5c. Acceptance criteria for the test system
...
